BEGIN:VCALENDAR
VERSION:2.0
PRODID:-//Hubbard SWCD - ECPv6.15.20//NONSGML v1.0//EN
CALSCALE:GREGORIAN
METHOD:PUBLISH
X-WR-CALNAME:Hubbard SWCD
X-ORIGINAL-URL:https://www.hubbardswcd.org
X-WR-CALDESC:Events for Hubbard SWCD
REFRESH-INTERVAL;VALUE=DURATION:PT1H
X-Robots-Tag:noindex
X-PUBLISHED-TTL:PT1H
BEGIN:VTIMEZONE
TZID:UTC
BEGIN:STANDARD
TZOFFSETFROM:+0000
TZOFFSETTO:+0000
TZNAME:UTC
DTSTART:20220101T000000
END:STANDARD
END:VTIMEZONE
BEGIN:VEVENT
DTSTART;TZID=UTC:20230807T090000
DTEND;TZID=UTC:20230807T120000
DTSTAMP:20260426T015957
CREATED:20221212T170633Z
LAST-MODIFIED:20230717T140450Z
UID:6023-1691398800-1691409600@www.hubbardswcd.org
SUMMARY:MOVED Hubbard SWCD Board Meeting
DESCRIPTION:The monthly Hubbard SWCD Board of Supervisors meeting will be moved to MONDAY AUGUST 7TH at 9 am as a hybrid meeting with both in-person and Zoom options due to COVID-19.  If you are interested in attending this meeting\, please call the office at (218) 732-0121 ext. 4 for login information the week before the meeting.
URL:https://www.hubbardswcd.org/event/hubbard-swcd-board-meeting-30/
LOCATION:Hubbard SWCD Office\, 603 Central Avenue N Suite 100\, Park Rapids\, MN\, 56470\, United States
CATEGORIES:board meeting
END:VEVENT
END:VCALENDAR