BEGIN:VCALENDAR
VERSION:2.0
PRODID:-//Hubbard SWCD - ECPv6.15.20//NONSGML v1.0//EN
CALSCALE:GREGORIAN
METHOD:PUBLISH
X-WR-CALNAME:Hubbard SWCD
X-ORIGINAL-URL:https://www.hubbardswcd.org
X-WR-CALDESC:Events for Hubbard SWCD
REFRESH-INTERVAL;VALUE=DURATION:PT1H
X-Robots-Tag:noindex
X-PUBLISHED-TTL:PT1H
BEGIN:VTIMEZONE
TZID:UTC
BEGIN:STANDARD
TZOFFSETFROM:+0000
TZOFFSETTO:+0000
TZNAME:UTC
DTSTART:20230101T000000
END:STANDARD
END:VTIMEZONE
BEGIN:VEVENT
DTSTART;TZID=UTC:20240313T090000
DTEND;TZID=UTC:20240313T120000
DTSTAMP:20260425T163347
CREATED:20231106T180115Z
LAST-MODIFIED:20240308T151509Z
UID:6409-1710320400-1710331200@www.hubbardswcd.org
SUMMARY:Hubbard SWCD Board Meeting
DESCRIPTION:The monthly Hubbard SWCD Board of Supervisors meeting will be held as a hybrid meeting with both in-person and Zoom options due to COVID-19.  If you are interested in attending this meeting\, please call the office at (218) 732-0121 ext. 4 for login information the week before the meeting. \nAn alternative open meeting location that Hubbard SWCD will be attending the March 13th Board Meeting via interactive Technology: 502 East 2nd St\, Duluth\, MN. 55805
URL:https://www.hubbardswcd.org/event/hubbard-swcd-board-meeting-37/
LOCATION:Hubbard SWCD Office\, 603 Central Avenue N Suite 100\, Park Rapids\, MN\, 56470\, United States
CATEGORIES:board meeting
END:VEVENT
END:VCALENDAR