BEGIN:VCALENDAR
VERSION:2.0
PRODID:-//Hubbard SWCD - ECPv6.15.20//NONSGML v1.0//EN
CALSCALE:GREGORIAN
METHOD:PUBLISH
X-WR-CALNAME:Hubbard SWCD
X-ORIGINAL-URL:https://www.hubbardswcd.org
X-WR-CALDESC:Events for Hubbard SWCD
REFRESH-INTERVAL;VALUE=DURATION:PT1H
X-Robots-Tag:noindex
X-PUBLISHED-TTL:PT1H
BEGIN:VTIMEZONE
TZID:UTC
BEGIN:STANDARD
TZOFFSETFROM:+0000
TZOFFSETTO:+0000
TZNAME:UTC
DTSTART:20160101T000000
END:STANDARD
END:VTIMEZONE
BEGIN:VEVENT
DTSTART;TZID=UTC:20230310T090000
DTEND;TZID=UTC:20230310T120000
DTSTAMP:20260421T101555
CREATED:20221212T165808Z
LAST-MODIFIED:20230217T201428Z
UID:6013-1678438800-1678449600@www.hubbardswcd.org
SUMMARY:Hubbard SWCD Board Meeting
DESCRIPTION:*NOTE: March Board Meeting date changed from March 8th to March 10th*\nThe monthly Hubbard SWCD Board of Supervisors meeting will be held as a hybrid meeting with both in-person and Zoom options due to COVID-19.  If you are interested in attending this meeting\, please call the office at (218) 732-0121 ext. 4 for login information the week before the meeting.
URL:https://www.hubbardswcd.org/event/hubbard-swcd-board-meeting-25/
LOCATION:Hubbard SWCD Office\, 603 Central Avenue N Suite 100\, Park Rapids\, MN\, 56470\, United States
CATEGORIES:board meeting
END:VEVENT
BEGIN:VEVENT
DTSTART;TZID=UTC:20230208T090000
DTEND;TZID=UTC:20230208T120000
DTSTAMP:20260421T101555
CREATED:20221212T165633Z
LAST-MODIFIED:20221212T165633Z
UID:6011-1675846800-1675857600@www.hubbardswcd.org
SUMMARY:Hubbard SWCD Board Meeting
DESCRIPTION:The monthly Hubbard SWCD Board of Supervisors meeting will be held as a hybrid meeting with both in-person and Zoom options due to COVID-19.  If you are interested in attending this meeting\, please call the office at (218) 732-0121 ext. 4 for login information the week before the meeting.
URL:https://www.hubbardswcd.org/event/hubbard-swcd-board-meeting-20/
LOCATION:MN
CATEGORIES:board meeting
END:VEVENT
BEGIN:VEVENT
DTSTART;TZID=UTC:20230111T090000
DTEND;TZID=UTC:20230111T120000
DTSTAMP:20260421T101555
CREATED:20221212T165257Z
LAST-MODIFIED:20221212T165528Z
UID:6006-1673427600-1673438400@www.hubbardswcd.org
SUMMARY:Hubbard SWCD Board Meeting
DESCRIPTION:The monthly Hubbard SWCD Board of Supervisors meeting will be held as a hybrid meeting with both in-person and Zoom options due to COVID-19.  If you are interested in attending this meeting\, please call the office at (218) 732-0121 ext. 4 for login information the week before the meeting.
URL:https://www.hubbardswcd.org/event/board-meeting-2/
LOCATION:Hubbard SWCD Office\, 603 Central Avenue N Suite 100\, Park Rapids\, MN\, 56470\, United States
CATEGORIES:board meeting
END:VEVENT
BEGIN:VEVENT
DTSTART;TZID=UTC:20170111T083000
DTEND;TZID=UTC:20170111T083000
DTSTAMP:20260421T101555
CREATED:20161216T223207Z
LAST-MODIFIED:20161228T211224Z
UID:369-1484123400-1484123400@www.hubbardswcd.org
SUMMARY:Board Meeting
DESCRIPTION:
URL:https://www.hubbardswcd.org/event/board-meeting/
LOCATION:MN
CATEGORIES:board meeting
END:VEVENT
END:VCALENDAR