BEGIN:VCALENDAR
VERSION:2.0
PRODID:-//Hubbard SWCD - ECPv6.15.20//NONSGML v1.0//EN
CALSCALE:GREGORIAN
METHOD:PUBLISH
X-WR-CALNAME:Hubbard SWCD
X-ORIGINAL-URL:https://www.hubbardswcd.org
X-WR-CALDESC:Events for Hubbard SWCD
REFRESH-INTERVAL;VALUE=DURATION:PT1H
X-Robots-Tag:noindex
X-PUBLISHED-TTL:PT1H
BEGIN:VTIMEZONE
TZID:UTC
BEGIN:STANDARD
TZOFFSETFROM:+0000
TZOFFSETTO:+0000
TZNAME:UTC
DTSTART:20170101T000000
END:STANDARD
END:VTIMEZONE
BEGIN:VEVENT
DTSTART;TZID=UTC:20180808T083000
DTEND;TZID=UTC:20180808T120000
DTSTAMP:20260422T224635
CREATED:20180112T013957Z
LAST-MODIFIED:20180112T013957Z
UID:1160-1533717000-1533729600@www.hubbardswcd.org
SUMMARY:Hubbard County SWCD Board Meeting
DESCRIPTION:
URL:https://www.hubbardswcd.org/event/hubbard-county-swcd-board-meeting-18/
LOCATION:Hubbard SWCD Office\, 603 Central Avenue N Suite 100\, Park Rapids\, MN\, 56470\, United States
END:VEVENT
BEGIN:VEVENT
DTSTART;TZID=UTC:20180803T090000
DTEND;TZID=UTC:20180803T140000
DTSTAMP:20260422T224635
CREATED:20180112T011722Z
LAST-MODIFIED:20180112T013435Z
UID:1146-1533286800-1533304800@www.hubbardswcd.org
SUMMARY:Monthly Nitrate Testing
DESCRIPTION:Bring 1/2 cup of room temperature tap water in a clean container or baggie to our office at 603 Central Avenue N\, Park Rapids\, MN. (please run your tap water 5 minutes before collecting)
URL:https://www.hubbardswcd.org/event/monthly-nitrate-testing-19/
LOCATION:Nitrate Testing\, 603 Central Avenue N  Suite 100\, Park Rapids\, MN\, 56470\, United States
END:VEVENT
BEGIN:VEVENT
DTSTART;TZID=UTC:20180728T090000
DTEND;TZID=UTC:20180728T120000
DTSTAMP:20260422T224635
CREATED:20180501T022148Z
LAST-MODIFIED:20180501T022330Z
UID:1559-1532768400-1532779200@www.hubbardswcd.org
SUMMARY:Nitrate Clinic at Blueberry Festival in Lake George\, MN
DESCRIPTION:Hubbard SWCD will be holding a Nitrate Clinic at the Lake George Blueberry Festival on Saturday\, July 28 from 9am to noon in the Itasca Leathergood Store parking lot.  Interested parties should run their tap water for 5 minutes before collecting 1/2 cup of water in a clean container or baggie.  We test on site and give you your the results.
URL:https://www.hubbardswcd.org/event/nitrate-clinic-at-blueberry-festival-in-lake-george-mn/
LOCATION:Itasca Leathergoods in Lake George\, 37144 US Hwy 71\, Lake George\, MN\, 56458
END:VEVENT
BEGIN:VEVENT
DTSTART;TZID=UTC:20180722T080000
DTEND;TZID=UTC:20180722T170000
DTSTAMP:20260422T224635
CREATED:20180112T023358Z
LAST-MODIFIED:20180112T023358Z
UID:1197-1532246400-1532278800@www.hubbardswcd.org
SUMMARY:National Envirothon Starts
DESCRIPTION:National Envirothon will be at Idaho State University in Pocatello\, ID – July 22-26\, 2018.
URL:https://www.hubbardswcd.org/event/national-envirothon-starts/
LOCATION:MN
END:VEVENT
BEGIN:VEVENT
DTSTART;TZID=UTC:20180720T090000
DTEND;TZID=UTC:20180720T130000
DTSTAMP:20260422T224635
CREATED:20180712T145145Z
LAST-MODIFIED:20180812T040235Z
UID:1698-1532077200-1532091600@www.hubbardswcd.org
SUMMARY:Leech Lake 1W1P Advisory Board Meeting
DESCRIPTION:An advisory meeting is scheduled for July 20th at the Cass County Office Board Meeting Room\, starting at 9am with unknown ending time.
URL:https://www.hubbardswcd.org/event/leech-lake-1w1p-advisory-board-meeting/
LOCATION:Cass County Court House\, 303 Minnesota Ave W\, Walker\, 56484\, United States
END:VEVENT
BEGIN:VEVENT
DTSTART;TZID=UTC:20180714T090000
DTEND;TZID=UTC:20180714T140000
DTSTAMP:20260422T224636
CREATED:20180112T022904Z
LAST-MODIFIED:20180112T022904Z
UID:1193-1531558800-1531576800@www.hubbardswcd.org
SUMMARY:Nitrate Clinic at the Fair!
DESCRIPTION:Hubbard SWCD will again have our Nitrate Testing at the Hubbard County Fair on July 13th and 14th! Bring in your 1/2 cup tap water to be tested!
URL:https://www.hubbardswcd.org/event/nitrate-clinic-fair-3/
LOCATION:Hubbard County Fair Grounds\, 301 Fair Avenue\, Park Rapids\, MN\, 56470\, United States
END:VEVENT
BEGIN:VEVENT
DTSTART;TZID=UTC:20180713T090000
DTEND;TZID=UTC:20180713T180000
DTSTAMP:20260422T224636
CREATED:20180112T022745Z
LAST-MODIFIED:20180112T022745Z
UID:1191-1531472400-1531504800@www.hubbardswcd.org
SUMMARY:Nitrate Clinic at the Fair!
DESCRIPTION:Hubbard SWCD will again have our Nitrate Testing at the Hubbard County Fair on July 13th and 14th! Bring in your 1/2 cup tap water to be tested!
URL:https://www.hubbardswcd.org/event/nitrate-clinic-fair-2/
LOCATION:Hubbard County Fair Grounds\, 301 Fair Avenue\, Park Rapids\, MN\, 56470\, United States
END:VEVENT
BEGIN:VEVENT
DTSTART;TZID=UTC:20180711T120000
DTEND;TZID=UTC:20180715T220000
DTSTAMP:20260422T224636
CREATED:20180112T023038Z
LAST-MODIFIED:20180112T023038Z
UID:1195-1531310400-1531692000@www.hubbardswcd.org
SUMMARY:Hubbard County Fair
DESCRIPTION:
URL:https://www.hubbardswcd.org/event/hubbard-county-fair-2/
LOCATION:Hubbard County Fair Grounds\, 301 Fair Avenue\, Park Rapids\, MN\, 56470\, United States
END:VEVENT
BEGIN:VEVENT
DTSTART;TZID=UTC:20180711T083000
DTEND;TZID=UTC:20180711T120000
DTSTAMP:20260422T224636
CREATED:20180112T012822Z
LAST-MODIFIED:20180112T013604Z
UID:1158-1531297800-1531310400@www.hubbardswcd.org
SUMMARY:Hubbard County SWCD Board Meeting
DESCRIPTION:
URL:https://www.hubbardswcd.org/event/hubbard-county-swcd-board-meeting-17/
LOCATION:Hubbard SWCD Office\, 603 Central Avenue N Suite 100\, Park Rapids\, MN\, 56470\, United States
END:VEVENT
BEGIN:VEVENT
DTSTART;TZID=UTC:20180707T090000
DTEND;TZID=UTC:20180707T120000
DTSTAMP:20260422T224636
CREATED:20180524T161219Z
LAST-MODIFIED:20180524T161308Z
UID:1634-1530954000-1530964800@www.hubbardswcd.org
SUMMARY:Laporte Independence Celebration Days Nitrate Clinic 9-noon
DESCRIPTION:Laporte Celebration Days will again host the Hubbard SWCD free nitrate clinic on the east side of the shelter\, from 9am – Noon for all private wells. \nPlease run your tab water 5 minutes before collecting a half cup of water in a clean jar\, container or baggie and bring it to the shelter to be tested on the spot.  Results will be given to clients at time of testing.
URL:https://www.hubbardswcd.org/event/laporte-independence-celebration-days-nitrate-clinic-9-noon/
LOCATION:Laporte\, MN East Side Shelter\, Laporte\, MN\, United States
END:VEVENT
BEGIN:VEVENT
DTSTART;TZID=UTC:20180706T090000
DTEND;TZID=UTC:20180706T140000
DTSTAMP:20260422T224636
CREATED:20180112T011456Z
LAST-MODIFIED:20180112T011456Z
UID:1144-1530867600-1530885600@www.hubbardswcd.org
SUMMARY:Monthly Nitrate Testing
DESCRIPTION:Bring 1/2 cup of room temperature tap water in a clean container or baggie to our office at 603 Central Avenue N\, Park Rapids\, MN. (please run your tap water 5 minutes before collecting)
URL:https://www.hubbardswcd.org/event/monthly-nitrate-testing-18/
LOCATION:Nitrate Testing\, 603 Central Avenue N  Suite 100\, Park Rapids\, MN\, 56470\, United States
END:VEVENT
BEGIN:VEVENT
DTSTART;TZID=UTC:20180623T090000
DTEND;TZID=UTC:20180623T150000
DTSTAMP:20260422T224636
CREATED:20180501T021017Z
LAST-MODIFIED:20180614T185725Z
UID:1553-1529744400-1529766000@www.hubbardswcd.org
SUMMARY:Nitrate Clinic at Paul Bunyan Days in Akeley\, MN
DESCRIPTION:Hubbard SWCD will be holding a Nitrate Clinic at the Paul Bunyan Days in Akeley\, MN on Saturday\, June 23rd from 9 am to 3 pm.  To bring a sample to test\, run your tap water for 5 minutes before collecting 1/2 cup water in a clean container or baggie.  We test on site and give you your results.  Look for us in the main attractions area by Paul’s Patio area!
URL:https://www.hubbardswcd.org/event/nitrate-clinic-at-paul-bunyan-days-in-akeley-mn/
LOCATION:Paul’s Patio in Akeley\, MN\, 72 Broadway St W\, Akeley\, MN\, 56433\, United States
END:VEVENT
BEGIN:VEVENT
DTSTART;TZID=UTC:20180620T133000
DTEND;TZID=UTC:20180620T160000
DTSTAMP:20260422T224636
CREATED:20180531T112443Z
LAST-MODIFIED:20180614T132410Z
UID:1640-1529501400-1529510400@www.hubbardswcd.org
SUMMARY:Leech Lake 1W1P Policy Committee Meeting (1:30pm)
DESCRIPTION:  \nLeech Lake 1W1P Policy Committee Meeting will be held at the Cass County Board Room at 1:30 pm. \nThe June Leech Lake 1W1P Advisor Meeting has been canceled.  The next advisory meeting will be held in July!
URL:https://www.hubbardswcd.org/event/leech-lake-1w1p-meeting-4/
LOCATION:Cass County Court House\, 303 Minnesota Ave W\, Walker\, 56484\, United States
END:VEVENT
BEGIN:VEVENT
DTSTART;TZID=UTC:20180613T083000
DTEND;TZID=UTC:20180613T120000
DTSTAMP:20260422T224636
CREATED:20171108T212930Z
LAST-MODIFIED:20180112T013636Z
UID:1073-1528878600-1528891200@www.hubbardswcd.org
SUMMARY:Hubbard County SWCD Board Meeting
DESCRIPTION:
URL:https://www.hubbardswcd.org/event/hubbard-county-swcd-board-meeting-16/
LOCATION:Hubbard SWCD Office\, 603 Central Avenue N Suite 100\, Park Rapids\, MN\, 56470\, United States
END:VEVENT
BEGIN:VEVENT
DTSTART;TZID=UTC:20180601T090000
DTEND;TZID=UTC:20180601T140000
DTSTAMP:20260422T224636
CREATED:20171108T213916Z
LAST-MODIFIED:20180524T140614Z
UID:1086-1527843600-1527861600@www.hubbardswcd.org
SUMMARY:Monthly Nitrate Testing
DESCRIPTION:Bring 1/2 cup of room temperature tap water in a clean container or baggie to our office at 603 Central Avenue N\, Park Rapids\, MN. \n(please run your tap water 5 minutes before collecting) \nPLEASE NOTE:   \nWe will only be able to test from 9 am to noon today\, June 1st. \nAny samples brought into the office after 12:00 will be tested at a later date and results will be emailed out to each client.
URL:https://www.hubbardswcd.org/event/monthly-nitrate-testing-17/
LOCATION:Nitrate Testing\, 603 Central Avenue N  Suite 100\, Park Rapids\, MN\, 56470\, United States
END:VEVENT
BEGIN:VEVENT
DTSTART;TZID=UTC:20180518T090000
DTEND;TZID=UTC:20180518T160000
DTSTAMP:20260422T224636
CREATED:20180517T113824Z
LAST-MODIFIED:20180517T114032Z
UID:1606-1526634000-1526659200@www.hubbardswcd.org
SUMMARY:Leech Lake 1W1P Advisor Committee and Planning Committee Meetings
DESCRIPTION:Meetings will be held at the Hackensack Fire Hall.  Advisory Committee Meeting starts at 9am and Planning Committee Meeting will start at 1:30pm. \n 
URL:https://www.hubbardswcd.org/event/leech-lake-1w1p-advisor-committee-and-planning-committee-meetings/
LOCATION:Hackensack Fire Hall\, 231 1st St N\, Hackensack\, MN\, 56542\, United States
END:VEVENT
BEGIN:VEVENT
DTSTART;TZID=UTC:20180516T090000
DTEND;TZID=UTC:20180516T140000
DTSTAMP:20260422T224636
CREATED:20180112T022059Z
LAST-MODIFIED:20180112T022222Z
UID:1187-1526461200-1526479200@www.hubbardswcd.org
SUMMARY:Freshwater Festival
DESCRIPTION:The Hubbard SWCD Annual Freshwater Festival will be held again at Camp Wilderness Boy Scout Camp near Emmaville\, MN. (29984 Journey Trail\, Park Rapids\, MN)
URL:https://www.hubbardswcd.org/event/freshwater-festival-2/
LOCATION:Freshwater Festival\, 29984 Journey Trail\, Park Rapids\, MN\, 56470\, United States
END:VEVENT
BEGIN:VEVENT
DTSTART;TZID=UTC:20180513T130000
DTEND;TZID=UTC:20180513T150000
DTSTAMP:20260422T224636
CREATED:20180112T021609Z
LAST-MODIFIED:20180420T191408Z
UID:1183-1526216400-1526223600@www.hubbardswcd.org
SUMMARY:Tree Pickup/Tree Sales
DESCRIPTION:Tree seedlings ordered through Hubbard SWCD will be available to pick up at the Hubbard County Fair Grounds (349 Fair Avenue in Park Rapids\, MN) May 11-13 at scheduled times.
URL:https://www.hubbardswcd.org/event/tree-pickuptree-sales-6/
LOCATION:Tree Pickup/TreeSales\, 349 Fair Avenue\, Park Rapids\, 56470\, United States
END:VEVENT
BEGIN:VEVENT
DTSTART;TZID=UTC:20180512T090000
DTEND;TZID=UTC:20180512T150000
DTSTAMP:20260422T224636
CREATED:20180112T021511Z
LAST-MODIFIED:20180420T191251Z
UID:1181-1526115600-1526137200@www.hubbardswcd.org
SUMMARY:Tree Pickup/Tree Sales
DESCRIPTION:Tree seedlings ordered through Hubbard SWCD will be available to pick up at the Hubbard County Fair Grounds (349 Fair Avenue in Park Rapids\, MN) May 11-13 at scheduled times.
URL:https://www.hubbardswcd.org/event/tree-pickuptree-sales-5/
LOCATION:Tree Pickup/TreeSales\, 349 Fair Avenue\, Park Rapids\, 56470\, United States
END:VEVENT
BEGIN:VEVENT
DTSTART;TZID=UTC:20180511T130000
DTEND;TZID=UTC:20180511T180000
DTSTAMP:20260422T224636
CREATED:20180112T020958Z
LAST-MODIFIED:20180420T191217Z
UID:1179-1526043600-1526061600@www.hubbardswcd.org
SUMMARY:Tree Pickup/Tree Sales
DESCRIPTION:Tree seedlings ordered through Hubbard SWCD will be available to pick up at the Hubbard County Fair Grounds (349 Fair Avenue in Park Rapids\, MN) May 11-13 at scheduled times.
URL:https://www.hubbardswcd.org/event/tree-pickuptree-sales-4/
LOCATION:Tree Pickup/TreeSales\, 349 Fair Avenue\, Park Rapids\, 56470\, United States
END:VEVENT
BEGIN:VEVENT
DTSTART;TZID=UTC:20180509T083000
DTEND;TZID=UTC:20180509T120000
DTSTAMP:20260422T224636
CREATED:20171108T212903Z
LAST-MODIFIED:20180112T013714Z
UID:1071-1525854600-1525867200@www.hubbardswcd.org
SUMMARY:Hubbard County SWCD Board Meeting
DESCRIPTION:
URL:https://www.hubbardswcd.org/event/hubbard-county-swcd-board-meeting-15/
LOCATION:Hubbard SWCD Office\, 603 Central Avenue N Suite 100\, Park Rapids\, MN\, 56470\, United States
END:VEVENT
BEGIN:VEVENT
DTSTART;TZID=UTC:20180505T090000
DTEND;TZID=UTC:20180505T120000
DTSTAMP:20260422T224636
CREATED:20180501T011557Z
LAST-MODIFIED:20180501T021319Z
UID:1546-1525510800-1525521600@www.hubbardswcd.org
SUMMARY:Nitrate Clinic at the Farden Cleanup Days
DESCRIPTION:Hubbard SWCD will be holding a Nitrate Clinic at the Farris Park Shelter during the Farden Cleanup Days from 9am to noon in the shelter on Saturday\, May 5th.  Run your tap for 5 minutes before collecting 1/2 cup water in a clean container\, or baggie.  We will test on the spot and give you your results.
URL:https://www.hubbardswcd.org/event/farden-cleanup-days-nitrate-clinic/
LOCATION:Farden Nitrate Clinic at Farris Park\, 32148 500th St\, Cass Lake\, MN\, 56633
END:VEVENT
BEGIN:VEVENT
DTSTART;TZID=UTC:20180504T090000
DTEND;TZID=UTC:20180504T140000
DTSTAMP:20260422T224636
CREATED:20171108T213602Z
LAST-MODIFIED:20171108T214049Z
UID:1082-1525424400-1525442400@www.hubbardswcd.org
SUMMARY:Monthly Nitrate Testing
DESCRIPTION:Bring 1/2 cup of room temperature tap water in a clean container or baggie to our office at 603 Central Avenue N\, Park Rapids\, MN. (please run your tap water 5 minutes before collecting)
URL:https://www.hubbardswcd.org/event/monthly-nitrate-testing-15/
LOCATION:Nitrate Testing\, 603 Central Avenue N  Suite 100\, Park Rapids\, MN\, 56470\, United States
END:VEVENT
BEGIN:VEVENT
DTSTART;TZID=UTC:20180502T080000
DTEND;TZID=UTC:20180502T170000
DTSTAMP:20260422T224636
CREATED:20180112T021919Z
LAST-MODIFIED:20180112T022408Z
UID:1185-1525248000-1525280400@www.hubbardswcd.org
SUMMARY:Regional Envirothon
DESCRIPTION:This year’s Envirothon will be held again at Lake Bemidji State Park\, 3401 State Park Rd NE\, Bemidji\, MN 56601. Top winners go on to State on May 21st at Shetek Lutheran Ministries in Slayton\, MN.
URL:https://www.hubbardswcd.org/event/regional-envirothon/
LOCATION:Envirothon\, 3401 State Park Rd NE\, Bemidji\, MN\, 56001\, United States
END:VEVENT
BEGIN:VEVENT
DTSTART;TZID=UTC:20180420T090000
DTEND;TZID=UTC:20180420T160000
DTSTAMP:20260422T224636
CREATED:20180413T001303Z
LAST-MODIFIED:20180413T001303Z
UID:1494-1524214800-1524240000@www.hubbardswcd.org
SUMMARY:Leech Lake 1W1P Advisory and Policy Committee Meetings
DESCRIPTION:Leech Lake 1W1P Advisory Committee Meeting will be from 9am – 1:30 pm at the US Fish and Wildlife Services Office in Walker\, MN  …  followed by Leech Lake 1W1P Policy Committee Meeting from1:30 – 4:00 pm in the same office.
URL:https://www.hubbardswcd.org/event/leech-lake-1w1p-advisory-and-policy-committee-meetings/
LOCATION:Walker USFS Office\, 201 Minnesota Ave E\, Walker\, MN\, 56484\, United States
END:VEVENT
BEGIN:VEVENT
DTSTART;TZID=UTC:20180411T083000
DTEND;TZID=UTC:20180411T120000
DTSTAMP:20260422T224636
CREATED:20171108T212831Z
LAST-MODIFIED:20180112T013750Z
UID:1069-1523435400-1523448000@www.hubbardswcd.org
SUMMARY:Hubbard County SWCD Board Meeting
DESCRIPTION:
URL:https://www.hubbardswcd.org/event/hubbard-county-swcd-board-meeting-14/
LOCATION:Hubbard SWCD Office\, 603 Central Avenue N Suite 100\, Park Rapids\, MN\, 56470\, United States
END:VEVENT
BEGIN:VEVENT
DTSTART;TZID=UTC:20180406T090000
DTEND;TZID=UTC:20180406T140000
DTSTAMP:20260422T224636
CREATED:20171108T213502Z
LAST-MODIFIED:20171108T214114Z
UID:1080-1523005200-1523023200@www.hubbardswcd.org
SUMMARY:Monthly Nitrate Testing
DESCRIPTION:Bring 1/2 cup of room temperature tap water in a clean container or baggie to our office at 603 Central Avenue N\, Park Rapids\, MN. (please run your tap water 5 minutes before collecting)
URL:https://www.hubbardswcd.org/event/monthly-nitrate-testing-14/
LOCATION:Nitrate Testing\, 603 Central Avenue N  Suite 100\, Park Rapids\, MN\, 56470\, United States
END:VEVENT
BEGIN:VEVENT
DTSTART;TZID=UTC:20180327T090000
DTEND;TZID=UTC:20180327T120000
DTSTAMP:20260422T224636
CREATED:20180319T211939Z
LAST-MODIFIED:20180319T211939Z
UID:1402-1522141200-1522152000@www.hubbardswcd.org
SUMMARY:Leech Lake 1W1P Advisory Meeting
DESCRIPTION:LL1W1P Advisory Meeting 9:00 am at the LLAWF Office
URL:https://www.hubbardswcd.org/event/leech-lake-1w1p-advisory-meeting/
LOCATION:LLAWF Office – Walker\, MN\, 615 Minnesota Avenue (Highway 371)\, Walker\, MN\, 56484
END:VEVENT
BEGIN:VEVENT
DTSTART;TZID=UTC:20180314T083000
DTEND;TZID=UTC:20180314T120000
DTSTAMP:20260422T224636
CREATED:20171108T212656Z
LAST-MODIFIED:20180112T013813Z
UID:1067-1521016200-1521028800@www.hubbardswcd.org
SUMMARY:Hubbard County SWCD Board Meeting
DESCRIPTION:
URL:https://www.hubbardswcd.org/event/hubbard-county-swcd-board-meeting-13/
LOCATION:Hubbard SWCD Office\, 603 Central Avenue N Suite 100\, Park Rapids\, MN\, 56470\, United States
END:VEVENT
BEGIN:VEVENT
DTSTART;TZID=UTC:20180302T090000
DTEND;TZID=UTC:20180302T140000
DTSTAMP:20260422T224636
CREATED:20171108T213814Z
LAST-MODIFIED:20171108T214031Z
UID:1084-1519981200-1519999200@www.hubbardswcd.org
SUMMARY:Monthly Nitrate Testing
DESCRIPTION:Bring 1/2 cup of room temperature tap water in a clean container or baggie to our office at 603 Central Avenue N\, Park Rapids\, MN. (please run your tap water 5 minutes before collecting)
URL:https://www.hubbardswcd.org/event/monthly-nitrate-testing-16/
LOCATION:Nitrate Testing\, 603 Central Avenue N  Suite 100\, Park Rapids\, MN\, 56470\, United States
END:VEVENT
END:VCALENDAR