BEGIN:VCALENDAR
VERSION:2.0
PRODID:-//Hubbard SWCD - ECPv6.15.20//NONSGML v1.0//EN
CALSCALE:GREGORIAN
METHOD:PUBLISH
X-WR-CALNAME:Hubbard SWCD
X-ORIGINAL-URL:https://www.hubbardswcd.org
X-WR-CALDESC:Events for Hubbard SWCD
REFRESH-INTERVAL;VALUE=DURATION:PT1H
X-Robots-Tag:noindex
X-PUBLISHED-TTL:PT1H
BEGIN:VTIMEZONE
TZID:UTC
BEGIN:STANDARD
TZOFFSETFROM:+0000
TZOFFSETTO:+0000
TZNAME:UTC
DTSTART:20230101T000000
END:STANDARD
END:VTIMEZONE
BEGIN:VEVENT
DTSTART;TZID=UTC:20241206T090000
DTEND;TZID=UTC:20241206T140000
DTSTAMP:20260422T000843
CREATED:20231122T181405Z
LAST-MODIFIED:20231122T181405Z
UID:6605-1733475600-1733493600@www.hubbardswcd.org
SUMMARY:Nitrate Clinic
DESCRIPTION:Hubbard County SWCD offers a Free Nitrate Testing Clinic the first Friday of every month.  Please bring a half cup of tap water in a clean DISPOSABLE container after running your tap for 5 minutes.  Samples should be taken on the morning of testing.  You can print off a form from our Home Page and complete it before dropping it off\, or you can complete a form provided at the front desk.  It takes about 5 minutes to test your sample and the results will be recorded in our informational pamphlet for you.  If you prefer not to wait\, we can email the results to you after testing. Please contact us at 218-732-0121 ext. 4\, or by email at info@hubbardswcd.org if you have any questions. \nPlease Note: this is not a certified lab test.
URL:https://www.hubbardswcd.org/event/nitrate-clinic-49/
LOCATION:Hubbard SWCD Office\, 603 Central Avenue N Suite 100\, Park Rapids\, MN\, 56470\, United States
CATEGORIES:Nitrate Clinic
END:VEVENT
BEGIN:VEVENT
DTSTART;TZID=UTC:20250103T090000
DTEND;TZID=UTC:20250103T140000
DTSTAMP:20260422T000843
CREATED:20250102T205405Z
LAST-MODIFIED:20250102T205656Z
UID:7282-1735894800-1735912800@www.hubbardswcd.org
SUMMARY:Nitrate Clinic 9 am - 2 pm
DESCRIPTION:Hubbard County SWCD offers a Free Nitrate Testing Clinic the first Friday of every month.  Please bring a half cup of tap water in a clean DISPOSABLE container after running your tap for 5 minutes.  Samples should be taken on the morning of testing.  You can print off a form from our Home Page and complete it before dropping it off\, or you can complete a form provided at the front desk.  It takes about 5 minutes to test your sample and the results will be recorded in our informational pamphlet for you.  If you prefer not to wait\, we can email the results to you after testing. Please contact us at 218-732-0121 ext. 4\, or by email at info@hubbardswcd.org if you have any questions. \nPlease Note: this is not a certified lab test.
URL:https://www.hubbardswcd.org/event/nitrate-clinic-9-am-2-pm/
LOCATION:Hubbard SWCD Office\, 603 Central Avenue N Suite 100\, Park Rapids\, MN\, 56470\, United States
END:VEVENT
BEGIN:VEVENT
DTSTART;VALUE=DATE:20250120
DTEND;VALUE=DATE:20250121
DTSTAMP:20260422T000843
CREATED:20250102T204550Z
LAST-MODIFIED:20250102T204730Z
UID:7278-1737331200-1737417599@www.hubbardswcd.org
SUMMARY:Office Closed
DESCRIPTION:Hubbard SWCD office will be closed in observance of \nMartin Luther King Jr. Day
URL:https://www.hubbardswcd.org/event/office-closed-7/
END:VEVENT
BEGIN:VEVENT
DTSTART;TZID=UTC:20250527T080000
DTEND;TZID=UTC:20250527T170000
DTSTAMP:20260422T000843
CREATED:20231122T184718Z
LAST-MODIFIED:20250526T133113Z
UID:6625-1748332800-1748365200@www.hubbardswcd.org
SUMMARY:Hubbard SWCD Board Meeting Rescheduled
DESCRIPTION:May Board Meeting date has been rescheduled from Tuesday\, May 27th to Thursday\, May 29th from 9 am – 12 pm
URL:https://www.hubbardswcd.org/event/hubbard-swcd-board-meeting-47/
LOCATION:Hubbard SWCD Office\, 603 Central Avenue N Suite 100\, Park Rapids\, MN\, 56470\, United States
CATEGORIES:board meeting
END:VEVENT
BEGIN:VEVENT
DTSTART;VALUE=DATE:20250619
DTEND;VALUE=DATE:20250620
DTSTAMP:20260422T000843
CREATED:20250618T144720Z
LAST-MODIFIED:20250618T144720Z
UID:7583-1750291200-1750377599@www.hubbardswcd.org
SUMMARY:Juneteenth Holiday Office Closed
DESCRIPTION:The Hubbard SWCD office will be closed
URL:https://www.hubbardswcd.org/event/juneteenth-holiday-office-closed/
LOCATION:Hubbard SWCD Office\, 603 Central Avenue N Suite 100\, Park Rapids\, MN\, 56470\, United States
END:VEVENT
BEGIN:VEVENT
DTSTART;TZID=UTC:20250624T090000
DTEND;TZID=UTC:20250624T120000
DTSTAMP:20260422T000843
CREATED:20250618T144924Z
LAST-MODIFIED:20250618T145234Z
UID:7586-1750755600-1750766400@www.hubbardswcd.org
SUMMARY:June Board Meeting 9am-12pm
DESCRIPTION:
URL:https://www.hubbardswcd.org/event/june-board-meeting-9am-12/
END:VEVENT
BEGIN:VEVENT
DTSTART;TZID=UTC:20250627T180000
DTEND;TZID=UTC:20250627T190000
DTSTAMP:20260422T000843
CREATED:20250625T143034Z
LAST-MODIFIED:20250625T144949Z
UID:7604-1751047200-1751050800@www.hubbardswcd.org
SUMMARY:Paul's Patio in Akeley\, MN Nitrate Clinic
DESCRIPTION:Friday June 24 6pm-7pm \nNitrate water testing
URL:https://www.hubbardswcd.org/event/pauls-patio-in-akeley-mn/
END:VEVENT
BEGIN:VEVENT
DTSTART;TZID=UTC:20250628T090000
DTEND;TZID=UTC:20250628T120000
DTSTAMP:20260422T000843
CREATED:20250625T143353Z
LAST-MODIFIED:20250625T144818Z
UID:7606-1751101200-1751112000@www.hubbardswcd.org
SUMMARY:Laporte Days @ Laporte Pavillion Nitrate Clinic
DESCRIPTION:Saturday June 25 9am-12 pm \nNitrate Water Testing \n 
URL:https://www.hubbardswcd.org/event/laporte-days-laporte-pavillion/
END:VEVENT
BEGIN:VEVENT
DTSTART;VALUE=DATE:20250704
DTEND;VALUE=DATE:20250705
DTSTAMP:20260422T000843
CREATED:20250618T162452Z
LAST-MODIFIED:20250625T144201Z
UID:7590-1751587200-1751673599@www.hubbardswcd.org
SUMMARY:July 4th Holiday - office closed
DESCRIPTION:Office Closed and NO Nitrate Clinic
URL:https://www.hubbardswcd.org/event/july-4th-holiday/
END:VEVENT
BEGIN:VEVENT
DTSTART;TZID=UTC:20250718T100000
DTEND;TZID=UTC:20250718T160000
DTSTAMP:20260422T000843
CREATED:20250625T143624Z
LAST-MODIFIED:20250625T144421Z
UID:7608-1752832800-1752854400@www.hubbardswcd.org
SUMMARY:Hubbard County Fair - Nitrate Clinic
DESCRIPTION:Nitrate Water Testing at the Environmental Building \nFriday July 18 10am-4pm \nSaturday July 19 10am-2pm
URL:https://www.hubbardswcd.org/event/hubbard-county-fair-4/
END:VEVENT
BEGIN:VEVENT
DTSTART;TZID=UTC:20250719T100000
DTEND;TZID=UTC:20250719T140000
DTSTAMP:20260422T000843
CREATED:20250625T153223Z
LAST-MODIFIED:20250625T153223Z
UID:7639-1752919200-1752933600@www.hubbardswcd.org
SUMMARY:Hubbard Co Fair Nitrate Clinic
DESCRIPTION:Nitrate Clinic at Hubbard Co Fair in Environmental Building
URL:https://www.hubbardswcd.org/event/hubbard-co-fair-nitrate-clinic/
END:VEVENT
BEGIN:VEVENT
DTSTART;TZID=UTC:20250722T090000
DTEND;TZID=UTC:20250722T120000
DTSTAMP:20260422T000843
CREATED:20250618T162713Z
LAST-MODIFIED:20250625T145119Z
UID:7593-1753174800-1753185600@www.hubbardswcd.org
SUMMARY:July Board Meeting 9am-12pm
DESCRIPTION:HCSWCD Office
URL:https://www.hubbardswcd.org/event/july-board-meeting-9am-12pm/
END:VEVENT
BEGIN:VEVENT
DTSTART;TZID=UTC:20250819T130000
DTEND;TZID=UTC:20250819T140000
DTSTAMP:20260422T000843
CREATED:20250812T140811Z
LAST-MODIFIED:20250812T140811Z
UID:7662-1755608400-1755612000@www.hubbardswcd.org
SUMMARY:Seed/Cone Collection &  ID Training
DESCRIPTION:location – Creators Place\, Pondsford\, MN\,  1 pm – 2 pm
URL:https://www.hubbardswcd.org/event/seed-cone-collection-id-training/
END:VEVENT
BEGIN:VEVENT
DTSTART;TZID=UTC:20250826T090000
DTEND;TZID=UTC:20250826T120000
DTSTAMP:20260422T000843
CREATED:20250625T145700Z
LAST-MODIFIED:20250625T150117Z
UID:7618-1756198800-1756209600@www.hubbardswcd.org
SUMMARY:August Board Meeting 9am-12pm
DESCRIPTION:Monthly Board Meeting at Hubbard SWCD Office
URL:https://www.hubbardswcd.org/event/august-board-meeting-9am-12pm/
END:VEVENT
BEGIN:VEVENT
DTSTART;TZID=UTC:20250901T080000
DTEND;TZID=UTC:20250901T170000
DTSTAMP:20260422T000843
CREATED:20250625T150935Z
LAST-MODIFIED:20250625T150935Z
UID:7628-1756713600-1756746000@www.hubbardswcd.org
SUMMARY:Labor Day - Office Closed
DESCRIPTION:Labor Day Holiday \nOffice Closed
URL:https://www.hubbardswcd.org/event/labor-day-office-closed-2/
END:VEVENT
BEGIN:VEVENT
DTSTART;TZID=UTC:20250905T090000
DTEND;TZID=UTC:20250905T140000
DTSTAMP:20260422T000843
CREATED:20250812T142828Z
LAST-MODIFIED:20250812T142851Z
UID:7678-1757062800-1757080800@www.hubbardswcd.org
SUMMARY:Free Nitrate Testing
DESCRIPTION:
URL:https://www.hubbardswcd.org/event/nitrate-testing/
LOCATION:Hubbard SWCD Office\, 603 Central Avenue N Suite 100\, Park Rapids\, MN\, 56470\, United States
END:VEVENT
BEGIN:VEVENT
DTSTART;TZID=UTC:20250910T090000
DTEND;TZID=UTC:20250910T100000
DTSTAMP:20260422T000843
CREATED:20250829T184413Z
LAST-MODIFIED:20250829T184413Z
UID:7717-1757494800-1757498400@www.hubbardswcd.org
SUMMARY:Hubbard SWCD Special Board Meeting
DESCRIPTION:Approve Soil Health Projects that exceed $2\,000
URL:https://www.hubbardswcd.org/event/hubbard-swcd-special-board-meeting/
LOCATION:Hubbard SWCD Office\, 603 Central Avenue N Suite 100\, Park Rapids\, MN\, 56470\, United States
END:VEVENT
BEGIN:VEVENT
DTSTART;TZID=UTC:20250911T183000
DTEND;TZID=UTC:20250911T203000
DTSTAMP:20260422T000843
CREATED:20250812T141048Z
LAST-MODIFIED:20250812T141048Z
UID:7664-1757615400-1757622600@www.hubbardswcd.org
SUMMARY:Seed/Cone Collection Training
DESCRIPTION:location – Community Ed\, Park Rapids\, MN\, 6:30 pm – 8:30 pm
URL:https://www.hubbardswcd.org/event/seed-cone-collection-training/
END:VEVENT
BEGIN:VEVENT
DTSTART;TZID=UTC:20250912T130000
DTEND;TZID=UTC:20250912T160000
DTSTAMP:20260422T000843
CREATED:20250812T141320Z
LAST-MODIFIED:20250812T141320Z
UID:7666-1757682000-1757692800@www.hubbardswcd.org
SUMMARY:Seed /Cone Collection Training
DESCRIPTION:DNR & SWCD Collaboration for seed/cone collection training \nLocation – Badoura State Nursery 1 pm – 4 pm
URL:https://www.hubbardswcd.org/event/seed-cone-collection-training-2/
END:VEVENT
BEGIN:VEVENT
DTSTART;TZID=UTC:20250923T090000
DTEND;TZID=UTC:20250923T120000
DTSTAMP:20260422T000843
CREATED:20250625T150242Z
LAST-MODIFIED:20250625T150242Z
UID:7622-1758618000-1758628800@www.hubbardswcd.org
SUMMARY:September Board Meeting 9am-12pm
DESCRIPTION:Monthly Board meeting @ Hubbard SWCD Office
URL:https://www.hubbardswcd.org/event/september-board-meeting-9am-12pm/
END:VEVENT
BEGIN:VEVENT
DTSTART;TZID=UTC:20251003T090000
DTEND;TZID=UTC:20251003T140000
DTSTAMP:20260422T000843
CREATED:20250812T142947Z
LAST-MODIFIED:20250812T142947Z
UID:7681-1759482000-1759500000@www.hubbardswcd.org
SUMMARY:Free Nitrate Testing
DESCRIPTION:
URL:https://www.hubbardswcd.org/event/free-nitrate-testing/
LOCATION:Hubbard SWCD Office\, 603 Central Avenue N Suite 100\, Park Rapids\, MN\, 56470\, United States
END:VEVENT
BEGIN:VEVENT
DTSTART;TZID=UTC:20251013T080000
DTEND;TZID=UTC:20251013T170000
DTSTAMP:20260422T000843
CREATED:20250625T151114Z
LAST-MODIFIED:20250625T151114Z
UID:7630-1760342400-1760374800@www.hubbardswcd.org
SUMMARY:Columbus Day - Office Closed
DESCRIPTION:Columbus Day – Office Closed
URL:https://www.hubbardswcd.org/event/columbus-day-office-closed-2/
END:VEVENT
BEGIN:VEVENT
DTSTART;TZID=UTC:20251028T090000
DTEND;TZID=UTC:20251028T120000
DTSTAMP:20260422T000843
CREATED:20250625T150024Z
LAST-MODIFIED:20250625T150024Z
UID:7620-1761642000-1761652800@www.hubbardswcd.org
SUMMARY:October Board Meeting 9am-12pm
DESCRIPTION:Monthly Board Meeting @ Hubbard SWCD Office \n 
URL:https://www.hubbardswcd.org/event/october-board-meeting-9am-12pm/
END:VEVENT
BEGIN:VEVENT
DTSTART;TZID=UTC:20251107T090000
DTEND;TZID=UTC:20251107T140000
DTSTAMP:20260422T000843
CREATED:20250812T143037Z
LAST-MODIFIED:20250812T143037Z
UID:7683-1762506000-1762524000@www.hubbardswcd.org
SUMMARY:Free Nitrate Testing
DESCRIPTION:
URL:https://www.hubbardswcd.org/event/free-nitrate-testing-2/
LOCATION:Hubbard SWCD Office\, 603 Central Avenue N Suite 100\, Park Rapids\, MN\, 56470\, United States
END:VEVENT
BEGIN:VEVENT
DTSTART;TZID=UTC:20251111T080000
DTEND;TZID=UTC:20251111T170000
DTSTAMP:20260422T000843
CREATED:20250625T151214Z
LAST-MODIFIED:20250625T151214Z
UID:7632-1762848000-1762880400@www.hubbardswcd.org
SUMMARY:Veteran's Day - Office Closed
DESCRIPTION:Veterans Day – Office Closed
URL:https://www.hubbardswcd.org/event/veterans-day-office-closed-2/
END:VEVENT
BEGIN:VEVENT
DTSTART;TZID=UTC:20251125T090000
DTEND;TZID=UTC:20251125T120000
DTSTAMP:20260422T000843
CREATED:20250812T142102Z
LAST-MODIFIED:20250812T142231Z
UID:7668-1764061200-1764072000@www.hubbardswcd.org
SUMMARY:November Board Meeting
DESCRIPTION:
URL:https://www.hubbardswcd.org/event/november-board-meeting/
LOCATION:Hubbard SWCD Office\, 603 Central Avenue N Suite 100\, Park Rapids\, MN\, 56470\, United States
END:VEVENT
BEGIN:VEVENT
DTSTART;VALUE=DATE:20251127
DTEND;VALUE=DATE:20251128
DTSTAMP:20260422T000843
CREATED:20250812T142349Z
LAST-MODIFIED:20250812T142349Z
UID:7670-1764201600-1764287999@www.hubbardswcd.org
SUMMARY:Hubbard SWCD Office Closed
DESCRIPTION:Thanksgiving Holiday
URL:https://www.hubbardswcd.org/event/hubbard-swcd-office-closed/
END:VEVENT
BEGIN:VEVENT
DTSTART;TZID=UTC:20251205T090000
DTEND;TZID=UTC:20251205T140000
DTSTAMP:20260422T000843
CREATED:20250812T143132Z
LAST-MODIFIED:20250812T143132Z
UID:7685-1764925200-1764943200@www.hubbardswcd.org
SUMMARY:Free Nitrate Testing
DESCRIPTION:
URL:https://www.hubbardswcd.org/event/free-nitrate-testing-3/
LOCATION:Hubbard SWCD Office\, 603 Central Avenue N Suite 100\, Park Rapids\, MN\, 56470\, United States
END:VEVENT
BEGIN:VEVENT
DTSTART;TZID=UTC:20251215T090000
DTEND;TZID=UTC:20251215T120000
DTSTAMP:20260422T000843
CREATED:20251203T121838Z
LAST-MODIFIED:20251210T150454Z
UID:7930-1765789200-1765800000@www.hubbardswcd.org
SUMMARY:December Board Meeting  Date Change
DESCRIPTION:There may be members participating by interactive technology at this board meeting.
URL:https://www.hubbardswcd.org/event/december-board-meeting-date-change/
END:VEVENT
BEGIN:VEVENT
DTSTART;TZID=UTC:20251217T150000
DTEND;TZID=UTC:20251217T180000
DTSTAMP:20260422T000843
CREATED:20251210T151732Z
LAST-MODIFIED:20251210T151733Z
UID:8100-1765983600-1765994400@www.hubbardswcd.org
SUMMARY:Small-Scale Forest Utilization Workshop
DESCRIPTION:Come join us at Guthrie Town Hall\, 44255 Rail Road\, Guthrie\, MN  56461 for an Open house with station where you can learn about different ” small-scale” resources that can be collected and sold. Topics include: balsam fir wreaths\, birch poles and decorative bundles\, Red-Osier dogwood stems\, porch pots etc…. and refreshments will be served. We look forward to seeing you there! Call the office if you have any additional questions.  218-732-0121 ext. 4
URL:https://www.hubbardswcd.org/event/small-scale-forest-utilization-workshop/
END:VEVENT
END:VCALENDAR