BEGIN:VCALENDAR
VERSION:2.0
PRODID:-//Hubbard SWCD - ECPv6.15.20//NONSGML v1.0//EN
CALSCALE:GREGORIAN
METHOD:PUBLISH
X-WR-CALNAME:Hubbard SWCD
X-ORIGINAL-URL:https://www.hubbardswcd.org
X-WR-CALDESC:Events for Hubbard SWCD
REFRESH-INTERVAL;VALUE=DURATION:PT1H
X-Robots-Tag:noindex
X-PUBLISHED-TTL:PT1H
BEGIN:VTIMEZONE
TZID:UTC
BEGIN:STANDARD
TZOFFSETFROM:+0000
TZOFFSETTO:+0000
TZNAME:UTC
DTSTART:20160101T000000
END:STANDARD
END:VTIMEZONE
BEGIN:VEVENT
DTSTART;VALUE=DATE:20171225
DTEND;VALUE=DATE:20171226
DTSTAMP:20260422T000326
CREATED:20170116T230427Z
LAST-MODIFIED:20170116T230438Z
UID:567-1514160000-1514246399@www.hubbardswcd.org
SUMMARY:Christmas - office closed
DESCRIPTION:
URL:https://www.hubbardswcd.org/event/christmas-office-closed/
LOCATION:MN
END:VEVENT
BEGIN:VEVENT
DTSTART;TZID=UTC:20171213T083000
DTEND;TZID=UTC:20171213T120000
DTSTAMP:20260422T000326
CREATED:20170321T014117Z
LAST-MODIFIED:20170321T014124Z
UID:715-1513153800-1513166400@www.hubbardswcd.org
SUMMARY:Hubbard County SWCD Board Meeting
DESCRIPTION:
URL:https://www.hubbardswcd.org/event/hubbard-county-swcd-board-meeting-9/
LOCATION:Hubbard SWCD Office\, 603 Central Avenue N Suite 100\, Park Rapids\, MN\, 56470\, United States
END:VEVENT
BEGIN:VEVENT
DTSTART;TZID=UTC:20171201T090000
DTEND;TZID=UTC:20171201T140000
DTSTAMP:20260422T000326
CREATED:20170321T022047Z
LAST-MODIFIED:20170321T022047Z
UID:755-1512118800-1512136800@www.hubbardswcd.org
SUMMARY:Monthly Nitrate Testing
DESCRIPTION:Bring 1/2 cup of room temperature tap water in a clean baggie or container to our office at 603 Central Avenue N\, Park Rapids\, MN. (please run your tap water 5 minutes before collecting)
URL:https://www.hubbardswcd.org/event/monthly-nitrate-testing-11/
LOCATION:Nitrate Testing\, 603 Central Avenue N  Suite 100\, Park Rapids\, MN\, 56470\, United States
END:VEVENT
BEGIN:VEVENT
DTSTART;VALUE=DATE:20171123
DTEND;VALUE=DATE:20171124
DTSTAMP:20260422T000326
CREATED:20170116T230348Z
LAST-MODIFIED:20170116T230348Z
UID:565-1511395200-1511481599@www.hubbardswcd.org
SUMMARY:Thanksgiving - office closed
DESCRIPTION:
URL:https://www.hubbardswcd.org/event/thanksgiving-office-closed/
LOCATION:MN
END:VEVENT
BEGIN:VEVENT
DTSTART;TZID=UTC:20171117T090000
DTEND;TZID=UTC:20171117T123000
DTSTAMP:20260422T000326
CREATED:20171108T210340Z
LAST-MODIFIED:20171108T210511Z
UID:1057-1510909200-1510921800@www.hubbardswcd.org
SUMMARY:Leech Lake River One Watershed One Plan
DESCRIPTION:The ” Leech Lake River One Watershed One Plan” Advisory Meeting will be holding a meeting on November 17th from 9:00am – 12:30pm – place for meeting to be determined.  The Policy Committee will meet at the Walker County Courthouse conference room from1:30pm to 4:00pm.
URL:https://www.hubbardswcd.org/event/leech-lake-river-one-watershed-one-plan/
LOCATION:MN
END:VEVENT
BEGIN:VEVENT
DTSTART;VALUE=DATE:20171110
DTEND;VALUE=DATE:20171111
DTSTAMP:20260422T000326
CREATED:20170116T230241Z
LAST-MODIFIED:20170116T230248Z
UID:563-1510272000-1510358399@www.hubbardswcd.org
SUMMARY:Veteran's Day - office closed
DESCRIPTION:
URL:https://www.hubbardswcd.org/event/veterans-day-office-closed/
LOCATION:MN
END:VEVENT
BEGIN:VEVENT
DTSTART;TZID=UTC:20171108T083000
DTEND;TZID=UTC:20171108T120000
DTSTAMP:20260422T000326
CREATED:20170321T014028Z
LAST-MODIFIED:20170321T014028Z
UID:713-1510129800-1510142400@www.hubbardswcd.org
SUMMARY:Hubbard County SWCD Board Meeting
DESCRIPTION:
URL:https://www.hubbardswcd.org/event/hubbard-county-swcd-board-meeting-8/
LOCATION:Hubbard SWCD Office\, 603 Central Avenue N Suite 100\, Park Rapids\, MN\, 56470\, United States
END:VEVENT
BEGIN:VEVENT
DTSTART;TZID=UTC:20171106T080000
DTEND;TZID=UTC:20171106T170000
DTSTAMP:20260422T000326
CREATED:20171013T152541Z
LAST-MODIFIED:20171013T152731Z
UID:1010-1509955200-1509987600@www.hubbardswcd.org
SUMMARY:Water Samples
DESCRIPTION:All water samples brought in on Friday\, November 3rd\, will be tested either today or tomorrow and results will be sent out to indicated emails.  Thanks for your understanding!
URL:https://www.hubbardswcd.org/event/water-samples/
LOCATION:MN
END:VEVENT
BEGIN:VEVENT
DTSTART;TZID=UTC:20171103T090000
DTEND;TZID=UTC:20171103T140000
DTSTAMP:20260422T000326
CREATED:20170321T021912Z
LAST-MODIFIED:20171013T152104Z
UID:753-1509699600-1509717600@www.hubbardswcd.org
SUMMARY:Monthly Nitrate Testing
DESCRIPTION:PLEASE NOTE:  Our office will be open for water sample drop-off only today\, November 3rd.  All SWCD staff will be attending an out of town training and will not be able to test samples.  All water samples brought in\, and appropriately identified\, will be tested on Monday\, November 6th.  Results will be forwarded on to everyone’s email after testing is completed. \nBring 1/2 cup of room temperature tap water in a clean baggie or container to our office at 603 Central Avenue N\, Park Rapids\, MN. (please run your tap water 5 minutes before collecting)
URL:https://www.hubbardswcd.org/event/monthly-nitrate-testing-10/
LOCATION:Nitrate Testing\, 603 Central Avenue N  Suite 100\, Park Rapids\, MN\, 56470\, United States
END:VEVENT
BEGIN:VEVENT
DTSTART;TZID=UTC:20171011T083000
DTEND;TZID=UTC:20171011T120000
DTSTAMP:20260422T000326
CREATED:20170321T014456Z
LAST-MODIFIED:20170321T014501Z
UID:719-1507710600-1507723200@www.hubbardswcd.org
SUMMARY:Hubbard County SWCD Board Meeting
DESCRIPTION:
URL:https://www.hubbardswcd.org/event/hubbard-county-swcd-board-meeting-10/
LOCATION:Hubbard SWCD Office\, 603 Central Avenue N Suite 100\, Park Rapids\, MN\, 56470\, United States
END:VEVENT
BEGIN:VEVENT
DTSTART;VALUE=DATE:20171009
DTEND;VALUE=DATE:20171010
DTSTAMP:20260422T000326
CREATED:20170116T230145Z
LAST-MODIFIED:20170116T230150Z
UID:561-1507507200-1507593599@www.hubbardswcd.org
SUMMARY:Columbus Day - office closed
DESCRIPTION:
URL:https://www.hubbardswcd.org/event/columbus-day-office-closed/
LOCATION:MN
END:VEVENT
BEGIN:VEVENT
DTSTART;TZID=UTC:20171006T090000
DTEND;TZID=UTC:20171006T140000
DTSTAMP:20260422T000326
CREATED:20170321T021230Z
LAST-MODIFIED:20170321T021829Z
UID:744-1507280400-1507298400@www.hubbardswcd.org
SUMMARY:Monthly Nitrate Testing
DESCRIPTION:Bring 1/2 cup of room temperature tap water in a clean baggie or container to our office at 603 Central Avenue N\, Park Rapids\, MN. (please run your tap water 5 minutes before collecting)
URL:https://www.hubbardswcd.org/event/monthly-nitrate-testing-9/
LOCATION:Nitrate Testing\, 603 Central Avenue N  Suite 100\, Park Rapids\, MN\, 56470\, United States
END:VEVENT
BEGIN:VEVENT
DTSTART;TZID=UTC:20170915T170000
DTEND;TZID=UTC:20170915T190000
DTSTAMP:20260422T000326
CREATED:20170817T194409Z
LAST-MODIFIED:20170825T155602Z
UID:934-1505494800-1505502000@www.hubbardswcd.org
SUMMARY:Leech Lake 1W1P Kick-off Meeting
DESCRIPTION:For more information go to the following web page and then click on the Leech Lake link. \nhttp://www.co.cass.mn.us/LLR1W1P \nA public kick-off meeting for the planning effort is scheduled for Friday\, September 15\, 2017 at the Walker Community Center to review and compile watershed data\, discuss priority issues identified by stakeholders\, and provide additional opportunity for the Leech Lake River Watershed One Watershed One Plan Partnership to gain feedback.\n 
URL:https://www.hubbardswcd.org/event/leech-lake-1w1p-kick-off-meeting/
LOCATION:Walker Community Center\, 105 Tower Ave E\, Walker\, 56484\, United States
END:VEVENT
BEGIN:VEVENT
DTSTART;TZID=UTC:20170913T083000
DTEND;TZID=UTC:20170913T120000
DTSTAMP:20260422T000326
CREATED:20170321T013714Z
LAST-MODIFIED:20170321T013720Z
UID:710-1505291400-1505304000@www.hubbardswcd.org
SUMMARY:Hubbard County SWCD Board Meeting
DESCRIPTION:
URL:https://www.hubbardswcd.org/event/hubbard-county-swcd-board-meeting-7/
LOCATION:Hubbard SWCD Office\, 603 Central Avenue N Suite 100\, Park Rapids\, MN\, 56470\, United States
END:VEVENT
BEGIN:VEVENT
DTSTART;VALUE=DATE:20170904
DTEND;VALUE=DATE:20170905
DTSTAMP:20260422T000326
CREATED:20170116T230054Z
LAST-MODIFIED:20170116T230059Z
UID:559-1504483200-1504569599@www.hubbardswcd.org
SUMMARY:Labor Day - office closed
DESCRIPTION:
URL:https://www.hubbardswcd.org/event/labor-day-office-closed/
LOCATION:MN
END:VEVENT
BEGIN:VEVENT
DTSTART;TZID=UTC:20170901T090000
DTEND;TZID=UTC:20170901T140000
DTSTAMP:20260422T000326
CREATED:20170321T021138Z
LAST-MODIFIED:20170321T021814Z
UID:742-1504256400-1504274400@www.hubbardswcd.org
SUMMARY:Monthly Nitrate Testing
DESCRIPTION:Bring 1/2 cup of room temperature tap water in a clean baggie or container to our office at 603 Central Avenue N\, Park Rapids\, MN. (please run your tap water 5 minutes before collecting)
URL:https://www.hubbardswcd.org/event/monthly-nitrate-testing-8/
LOCATION:Nitrate Testing\, 603 Central Avenue N  Suite 100\, Park Rapids\, MN\, 56470\, United States
END:VEVENT
BEGIN:VEVENT
DTSTART;TZID=UTC:20170818T133000
DTEND;TZID=UTC:20170818T150000
DTSTAMP:20260422T000326
CREATED:20170731T140752Z
LAST-MODIFIED:20170731T140752Z
UID:907-1503063000-1503068400@www.hubbardswcd.org
SUMMARY:'Leech Lake River One Watershed One Plan' Policy Committee Meeting
DESCRIPTION:The ” Leech Lake River One Watershed One Plan” Policy Committee will be meeting at 1:30 p.m. Friday\, August 18\, 2017 in the Cass County Environmental Services Department Conference Room in the Cass County Courthouse Walker\, MN.  (303 Minnesota Ave N – first floor)
URL:https://www.hubbardswcd.org/event/leech-lake-river-one-watershed-one-plan-policy-committee-meeting-2/
LOCATION:MN
END:VEVENT
BEGIN:VEVENT
DTSTART;TZID=UTC:20170809T083000
DTEND;TZID=UTC:20170809T083000
DTSTAMP:20260422T000326
CREATED:20170308T202454Z
LAST-MODIFIED:20170308T202454Z
UID:660-1502267400-1502267400@www.hubbardswcd.org
SUMMARY:Hubbard County SWCD Board Meeting
DESCRIPTION:
URL:https://www.hubbardswcd.org/event/hubbard-county-swcd-board-meeting-6/
LOCATION:Park Rapids USDA Offices\, 603 Central Avenue N  Suite 100\, Park Rapids\, MN\, 56470
END:VEVENT
BEGIN:VEVENT
DTSTART;TZID=UTC:20170804T090000
DTEND;TZID=UTC:20170804T140000
DTSTAMP:20260422T000326
CREATED:20170321T021047Z
LAST-MODIFIED:20170321T021755Z
UID:740-1501837200-1501855200@www.hubbardswcd.org
SUMMARY:Monthly Nitrate Testing
DESCRIPTION:Bring 1/2 cup of room temperature tap water in a clean baggie or container to our office at 603 Central Avenue N\, Park Rapids\, MN. (please run your tap water 5 minutes before collecting)
URL:https://www.hubbardswcd.org/event/monthly-nitrate-testing-7/
LOCATION:Nitrate Testing\, 603 Central Avenue N  Suite 100\, Park Rapids\, MN\, 56470\, United States
END:VEVENT
BEGIN:VEVENT
DTSTART;TZID=UTC:20170723T080000
DTEND;TZID=UTC:20170723T170000
DTSTAMP:20260422T000326
CREATED:20170321T020603Z
LAST-MODIFIED:20170321T131257Z
UID:735-1500796800-1500829200@www.hubbardswcd.org
SUMMARY:National Envirothon Starts
DESCRIPTION:National Envirothon will be at Mt. St. Mary’s in Emmitsburg\, Maryland July 23 – July 29\, 2017.
URL:https://www.hubbardswcd.org/event/national-envirothon/
LOCATION:MN
END:VEVENT
BEGIN:VEVENT
DTSTART;TZID=UTC:20170715T090000
DTEND;TZID=UTC:20170715T140000
DTSTAMP:20260422T000326
CREATED:20170323T165924Z
LAST-MODIFIED:20170323T170014Z
UID:766-1500109200-1500127200@www.hubbardswcd.org
SUMMARY:Nitrate Clinic at the Fair!
DESCRIPTION:Hubbard SWCD will again have our Nitrate Testing at the Hubbard County Fair on July 14th and 15th!  Bring in your 1/2 cup tap water to be tested!
URL:https://www.hubbardswcd.org/event/nitrate-testing-fair/
LOCATION:Hubbard County Fair Grounds\, 301 Fair Avenue\, Park Rapids\, MN\, 56470\, United States
END:VEVENT
BEGIN:VEVENT
DTSTART;TZID=UTC:20170714T090000
DTEND;TZID=UTC:20170714T180000
DTSTAMP:20260422T000326
CREATED:20170321T020301Z
LAST-MODIFIED:20170323T170132Z
UID:731-1500022800-1500055200@www.hubbardswcd.org
SUMMARY:Nitrate Clinic at the Fair!
DESCRIPTION:Hubbard SWCD will again have our Nitrate Testing at the Hubbard County Fair on July 14th and 15th!  Bring in your 1/2 cup tap water to be tested!
URL:https://www.hubbardswcd.org/event/nitrate-clinic-fair/
LOCATION:Hubbard County Fair Grounds\, 301 Fair Avenue\, Park Rapids\, MN\, 56470\, United States
END:VEVENT
BEGIN:VEVENT
DTSTART;TZID=UTC:20170712T120000
DTEND;TZID=UTC:20170716T220000
DTSTAMP:20260422T000326
CREATED:20170321T015734Z
LAST-MODIFIED:20170321T015832Z
UID:729-1499860800-1500242400@www.hubbardswcd.org
SUMMARY:Hubbard County Fair
DESCRIPTION:
URL:https://www.hubbardswcd.org/event/hubbard-county-fair/
LOCATION:MN
END:VEVENT
BEGIN:VEVENT
DTSTART;TZID=UTC:20170712T083000
DTEND;TZID=UTC:20170712T083000
DTSTAMP:20260422T000326
CREATED:20170308T202359Z
LAST-MODIFIED:20170308T202359Z
UID:657-1499848200-1499848200@www.hubbardswcd.org
SUMMARY:Hubbard County SWCD Board Meeting
DESCRIPTION:
URL:https://www.hubbardswcd.org/event/hubbard-county-swcd-board-meeting-5/
LOCATION:Park Rapids USDA Offices\, 603 Central Avenue N  Suite 100\, Park Rapids\, MN\, 56470
END:VEVENT
BEGIN:VEVENT
DTSTART;TZID=UTC:20170707T090000
DTEND;TZID=UTC:20170707T140000
DTSTAMP:20260422T000326
CREATED:20170321T015517Z
LAST-MODIFIED:20170321T021730Z
UID:727-1499418000-1499436000@www.hubbardswcd.org
SUMMARY:Monthly Nitrate Testing
DESCRIPTION:Bring 1/2 cup of room temperature tap water in a clean baggie or container to our office at 603 Central Avenue N\, Park Rapids\, MN. (please run your tap water 5 minutes before collecting)
URL:https://www.hubbardswcd.org/event/monthly-nitrate-testing-6/
LOCATION:Nitrate Testing\, 603 Central Avenue N  Suite 100\, Park Rapids\, MN\, 56470\, United States
END:VEVENT
BEGIN:VEVENT
DTSTART;VALUE=DATE:20170704
DTEND;VALUE=DATE:20170705
DTSTAMP:20260422T000326
CREATED:20170116T230010Z
LAST-MODIFIED:20170116T230015Z
UID:557-1499126400-1499212799@www.hubbardswcd.org
SUMMARY:Independence Day - office closed
DESCRIPTION:
URL:https://www.hubbardswcd.org/event/independence-day-office-closed/
LOCATION:MN
END:VEVENT
BEGIN:VEVENT
DTSTART;TZID=UTC:20170701T090000
DTEND;TZID=UTC:20170701T120000
DTSTAMP:20260422T000326
CREATED:20170510T200412Z
LAST-MODIFIED:20180524T160522Z
UID:868-1498899600-1498910400@www.hubbardswcd.org
SUMMARY:Laporte Independence Celebration Days Nitrate Clinic 9-noon
DESCRIPTION:Hubbard SWCD will be at the Laporte Independence Celebration Days on July 1st to do FREE Nitrate Testing from 9:00 am – 12:00 noon.  If you are interested in testing your well/tap water\, run your water 5 minutes before collecting 1/2 cup in a clean container and bring to the East Side Shelter in Laporte\, MN.
URL:https://www.hubbardswcd.org/event/laporte-independence-celebration-days/
LOCATION:Laporte\, MN East Side Shelter\, Laporte\, MN\, United States
END:VEVENT
BEGIN:VEVENT
DTSTART;TZID=UTC:20170630T110000
DTEND;TZID=UTC:20170630T123000
DTSTAMP:20260422T000326
CREATED:20170627T145407Z
LAST-MODIFIED:20170627T145407Z
UID:888-1498820400-1498825800@www.hubbardswcd.org
SUMMARY:'Leech Lake River One Watershed One Plan' Policy Committee Meeting
DESCRIPTION:The ” Leech Lake River One Watershed One Plan” Policy Committee will be meeting at 11:00 a.m. Friday June 30\, 2017 in the Cass County Environmental Services Department Conference Room in the Cass County Courthouse Walker\, MN.  (303 Minnesota Ave N – first floor)
URL:https://www.hubbardswcd.org/event/leech-lake-river-one-watershed-one-plan-policy-committee-meeting/
LOCATION:ESD Conference Room\, 303 Minnesota Ave N\, Walker\, 56484\, United States
END:VEVENT
BEGIN:VEVENT
DTSTART;TZID=UTC:20170614T083000
DTEND;TZID=UTC:20170614T083000
DTSTAMP:20260422T000326
CREATED:20170308T202249Z
LAST-MODIFIED:20170308T202249Z
UID:654-1497429000-1497429000@www.hubbardswcd.org
SUMMARY:Hubbard County SWCD Board Meeting
DESCRIPTION:
URL:https://www.hubbardswcd.org/event/hubbard-county-swcd-board-meeting-4/
LOCATION:Park Rapids USDA Offices\, 603 Central Avenue N  Suite 100\, Park Rapids\, MN\, 56470
END:VEVENT
BEGIN:VEVENT
DTSTART;TZID=UTC:20170612T090000
DTEND;TZID=UTC:20170612T230000
DTSTAMP:20260422T000326
CREATED:20170605T040150Z
LAST-MODIFIED:20170605T040150Z
UID:877-1497258000-1497308400@www.hubbardswcd.org
SUMMARY:SWCD Board Work Session
DESCRIPTION:
URL:https://www.hubbardswcd.org/event/swcd-board-work-session/
LOCATION:Hubbard SWCD Office\, 603 Central Avenue N Suite 100\, Park Rapids\, MN\, 56470\, United States
END:VEVENT
END:VCALENDAR