BEGIN:VCALENDAR
VERSION:2.0
PRODID:-//Hubbard SWCD - ECPv6.15.20//NONSGML v1.0//EN
CALSCALE:GREGORIAN
METHOD:PUBLISH
X-ORIGINAL-URL:https://www.hubbardswcd.org
X-WR-CALDESC:Events for Hubbard SWCD
REFRESH-INTERVAL;VALUE=DURATION:PT1H
X-Robots-Tag:noindex
X-PUBLISHED-TTL:PT1H
BEGIN:VTIMEZONE
TZID:UTC
BEGIN:STANDARD
TZOFFSETFROM:+0000
TZOFFSETTO:+0000
TZNAME:UTC
DTSTART:20230101T000000
END:STANDARD
END:VTIMEZONE
BEGIN:VEVENT
DTSTART;TZID=UTC:20240503T090000
DTEND;TZID=UTC:20240503T140000
DTSTAMP:20260421T152718
CREATED:20231122T175825Z
LAST-MODIFIED:20231122T175825Z
UID:6589-1714726800-1714744800@www.hubbardswcd.org
SUMMARY:Nitrate Clinic
DESCRIPTION:Hubbard County SWCD offers a Free Nitrate Testing Clinic the first Friday of every month.  Please bring a half cup of tap water in a clean DISPOSABLE container after running your tap for 5 minutes.  Samples should be taken on the morning of testing.  You can print off a form from our Home Page and complete it before dropping it off\, or you can complete a form provided at the front desk.  It takes about 5 minutes to test your sample and the results will be recorded in our informational pamphlet for you.  If you prefer not to wait\, we can email the results to you after testing. Please contact us at 218-732-0121 ext. 4\, or by email at info@hubbardswcd.org if you have any questions. \nPlease Note: this is not a certified lab test.
URL:https://www.hubbardswcd.org/event/nitrate-clinic-41/
LOCATION:Hubbard SWCD Office\, 603 Central Avenue N Suite 100\, Park Rapids\, MN\, 56470\, United States
END:VEVENT
BEGIN:VEVENT
DTSTART;TZID=UTC:20240508T090000
DTEND;TZID=UTC:20240508T120000
DTSTAMP:20260421T152718
CREATED:20231122T183142Z
LAST-MODIFIED:20231122T183142Z
UID:6609-1715158800-1715169600@www.hubbardswcd.org
SUMMARY:Hubbard SWCD Board Meeting
DESCRIPTION:The monthly Hubbard SWCD Board of Supervisors meeting will be held as a hybrid meeting with both in-person and Zoom options due to COVID-19.  If you are interested in attending this meeting\, please call the office at (218) 732-0121 ext. 4 for login information the week before the meeting.
URL:https://www.hubbardswcd.org/event/hubbard-swcd-board-meeting-39/
LOCATION:Hubbard SWCD Office\, 603 Central Avenue N Suite 100\, Park Rapids\, MN\, 56470\, United States
END:VEVENT
BEGIN:VEVENT
DTSTART;VALUE=DATE:20240515
DTEND;VALUE=DATE:20240516
DTSTAMP:20260421T152718
CREATED:20231212T150010Z
LAST-MODIFIED:20231212T150253Z
UID:6711-1715731200-1715817599@www.hubbardswcd.org
SUMMARY:Freshwater Festival
DESCRIPTION:The Annual Freshwater Festival will be held at the Camp Wilderness Boyscout Camp for all area 6th graders. Students will learn about the protection\, preservation\, and conservation of water resources in an atmosphere of fun and learning. Hubbard County has substantial ground and surface water resources. Educators from the SWCD\, NRCS\, MNDNR\, U of M Extension\, Headwaters Science Center\, and community experts will teach students about the different aspects of these waters and their relationship to other resources: wetlands\, forestry\, and wildlife through interactive presentations. \nIf your class is interested in joining us\, please contact Claire at Claire.HCSWCD@gmail.com
URL:https://www.hubbardswcd.org/event/freshwater-festival-5/
END:VEVENT
BEGIN:VEVENT
DTSTART;TZID=UTC:20240527T080000
DTEND;TZID=UTC:20240527T163000
DTSTAMP:20260421T152718
CREATED:20240516T163759Z
LAST-MODIFIED:20240516T170928Z
UID:6987-1716796800-1716827400@www.hubbardswcd.org
SUMMARY:Memorial Day - Office Closed
DESCRIPTION:Hubbard SWCD office will be closed \nMemorial Day
URL:https://www.hubbardswcd.org/event/office-closed-4/
END:VEVENT
END:VCALENDAR